BEGIN:VCALENDAR
VERSION:2.0
PRODID:-//Happyride//ICalGenerator//EN
CALSCALE:GREGORIAN
METHOD:PUBLISH
X-WR-TIMEZONE:Europe/Stockholm
X-WR-CALNAME:Happy easy hisingen Lördag
X-WR-CALDESC:Ett evenemang från Happyride.se
BEGIN:VEVENT
UID:happyride.se_69eaf9be893a44.37611166
SUMMARY:Happy easy hisingen Lördag
DTSTART:20130420T100000
DTEND:20130420T120000
DESCRIPTION:Kör en sväng i behagligt tempo\, siktar på 3-3\,5h med start på bjurslättstorg kl 1000. \n\nses \nLars https://happyride.se/kalender/123/
URL:https://happyride.se/kalender/123/
END:VEVENT
END:VCALENDAR
