BEGIN:VCALENDAR
VERSION:2.0
PRODID:-//Happyride//ICalGenerator//EN
CALSCALE:GREGORIAN
METHOD:PUBLISH
X-WR-TIMEZONE:Europe/Stockholm
X-WR-CALNAME:EasyRide Delsjön
X-WR-CALDESC:Ett evenemang från Happyride.se
BEGIN:VEVENT
UID:happyride.se_69eb7c094999d9.48508208
SUMMARY:EasyRide Delsjön
DTSTART:20141210T180000
DTEND:20141210T200000
DESCRIPTION:2 timmar easyride. Samling Franssons/ Filip Jacobsson https://happyride.se/kalender/1354/
URL:https://happyride.se/kalender/1354/
END:VEVENT
END:VCALENDAR
