BEGIN:VCALENDAR
VERSION:2.0
PRODID:-//Happyride//ICalGenerator//EN
CALSCALE:GREGORIAN
METHOD:PUBLISH
X-WR-TIMEZONE:Europe/Stockholm
X-WR-CALNAME:Enduro Sweden Series Round 2: Canyon Enduro Sprint 2015
X-WR-CALDESC:Ett evenemang från Happyride.se
BEGIN:VEVENT
UID:happyride.se_69ed1d27a59ff3.47126089
SUMMARY:Enduro Sweden Series Round 2: Canyon Enduro Sprint 2015
DTSTART;VALUE=DATE:20150530
DTEND;VALUE=DATE:20150601
DESCRIPTION:Se mer info på hemsidan eller i forumtråden! https://happyride.se/kalender/1415/
URL:https://happyride.se/kalender/1415/
END:VEVENT
END:VCALENDAR
