BEGIN:VCALENDAR
VERSION:2.0
PRODID:-//Happyride//ICalGenerator//EN
CALSCALE:GREGORIAN
METHOD:PUBLISH
X-WR-TIMEZONE:Europe/Stockholm
X-WR-CALNAME:ROSE Demodag
X-WR-CALDESC:Ett evenemang från Happyride.se
BEGIN:VEVENT
UID:happyride.se_69eb3945005743.58475595
SUMMARY:ROSE Demodag
DTSTART:20150507T150000
DTEND:20150507T170000
DESCRIPTION:Kom och provcykla våra landsvägscyklar\, MTB och cyclocross!\nTa med egen hjälm och ID! https://happyride.se/kalender/1437/
URL:https://happyride.se/kalender/1437/
END:VEVENT
END:VCALENDAR
