BEGIN:VCALENDAR
VERSION:2.0
PRODID:-//Happyride//ICalGenerator//EN
CALSCALE:GREGORIAN
METHOD:PUBLISH
X-WR-TIMEZONE:Europe/Stockholm
X-WR-CALNAME:Randonnée 400KM Barkarby (nattstart)
X-WR-CALDESC:Ett evenemang från Happyride.se
BEGIN:VEVENT
UID:happyride.se_69ed2f7e8f9dc8.26961088
SUMMARY:Randonnée 400KM Barkarby (nattstart)
DTSTART;VALUE=DATE:20160603
DTEND;VALUE=DATE:20160605
DESCRIPTION:Välkommen till Barkarby 400 km med nattstart!\n\nVi samlas utanför Lilla Barkarby på Barkarby torg. Du kommer att mötas av ett hav av reflexvästar och cyklar. Vi rullar kl 23.00 mot Uppsala\, vi cyklar genom natten och möter solen vid Dragon Gate. Vi avnjuter en fantastik frukost alt. brunch på Shell i Gävle beroende på fart. Vi rullar mot Sandviken och tillbaka ner mot Uppsala på super fina vägar. Vi slutstämplar på Lilla Barkarby. Köper något att dricka och somnar i soffan!\n\nStart 23:00 FREDAG!! och uthämtning av startkort 22:30.\nStartplats: Utanför Lilla Barkarby\n\nDu hittar mer information om loppet på vår hemsida under länken "Breveter". \nhttp://stockholm.randonneurs.se/wp/barkarby-400-km/\n\nPå hemsidan gör du även anmälan till detta och andra lopp som arrangeras av oss.\nVälkomna!\nhttp://stockholm.randonneurs.se/ https://happyride.se/kalender/2014/
URL:https://happyride.se/kalender/2014/
END:VEVENT
END:VCALENDAR
