BEGIN:VCALENDAR
VERSION:2.0
PRODID:-//Happyride//ICalGenerator//EN
CALSCALE:GREGORIAN
METHOD:PUBLISH
X-WR-TIMEZONE:Europe/Stockholm
X-WR-CALNAME:Randonnée 200KM Malmö
X-WR-CALDESC:Ett evenemang från Happyride.se
BEGIN:VEVENT
UID:happyride.se_69e5a309582d12.66661672
SUMMARY:Randonnée 200KM Malmö
DTSTART;VALUE=DATE:20160917
DESCRIPTION:Lite för tyst om den här så jag drar igång. \n200k med okänd rutt\, NLC har väl kanske koll på vad det blir?  \n\nVilka kommer? :) \n\n\nhttp://milslukaren.se/ https://happyride.se/kalender/2161/
URL:https://happyride.se/kalender/2161/
END:VEVENT
END:VCALENDAR
