BEGIN:VCALENDAR
VERSION:2.0
PRODID:-//Happyride//ICalGenerator//EN
CALSCALE:GREGORIAN
METHOD:PUBLISH
X-WR-TIMEZONE:Europe/Stockholm
X-WR-CALNAME:Winter Challenge (vintervättern)
X-WR-CALDESC:Ett evenemang från Happyride.se
BEGIN:VEVENT
UID:happyride.se_69e8de04bd5684.81717569
SUMMARY:Winter Challenge (vintervättern)
DTSTART;VALUE=DATE:20161228
DESCRIPTION: https://happyride.se/kalender/2235/
URL:https://happyride.se/kalender/2235/
END:VEVENT
END:VCALENDAR
