BEGIN:VCALENDAR
VERSION:2.0
PRODID:-//Happyride//ICalGenerator//EN
CALSCALE:GREGORIAN
METHOD:PUBLISH
X-WR-TIMEZONE:Europe/Stockholm
X-WR-CALNAME:Lehög bilder
X-WR-CALDESC:Ett evenemang från Happyride.se
BEGIN:VEVENT
UID:happyride.se_69ed1caf7a6804.74670301
SUMMARY:Lehög bilder
DTSTART:20170211T110000
DTEND:20170211T130000
DESCRIPTION:Vi kör lite utför på högen!\nPushbike för alla som är sugna & så hoppas vi på att det inte är MASSA snö \;) men det är kul då med...\nBilar kan parkeras nära man behöver inte cykla sidleds eller uppför nånting bara utför :)\nTa med tilltugg så kör vi sålänge vi orkar!!!\n\nJag å Carl-pedal visar stigarna\, bara lek å fjant alla välkomna finns knappt en ända sten att slå sig på så det är en bra liten hög!!!\n\nAnmäl så vi vet lite vem som kommer å hur många :)\n\n1 EST\n2 CARL PEDAL\n3 CRASHGORDON\n4 Johan k\n5 Tomas W\n6 Italjenaren\n7 Bonzo\n8 tobgren\n9 mikipedia\n10 linder eller vad nu happy nicket var?\n11  Mats\n12 Wilkas\n13 Murmansk typ...? https://happyride.se/kalender/2340/
URL:https://happyride.se/kalender/2340/
END:VEVENT
END:VCALENDAR
