BEGIN:VCALENDAR
VERSION:2.0
PRODID:-//Happyride//ICalGenerator//EN
CALSCALE:GREGORIAN
METHOD:PUBLISH
X-WR-TIMEZONE:Europe/Stockholm
X-WR-CALNAME:[Happy Easy] Gerrebacka 10:00\, Stella förskola
X-WR-CALDESC:Ett evenemang från Happyride.se
BEGIN:VEVENT
UID:happyride.se_69e9adcf093d94.27595780
SUMMARY:[Happy Easy] Gerrebacka 10:00\, Stella förskola
DTSTART:20170415T100000
DTEND:20170415T120000
DESCRIPTION:Innan påskmiddagen tar vi en tur.\nSes kl 10 vid Stella förskola.\nVi drar runt i skogarna runt Gerrebacka\, Djupedal\, Säve och Larsered för att sedan rulla tillbaka till Gerrebacka\nCa 2 -3 timmar beroende stigval\, pauser och väder.\nVälkomna\n\n/Andreas\n0709 17 noll noll 88 https://happyride.se/kalender/2449/
URL:https://happyride.se/kalender/2449/
END:VEVENT
END:VCALENDAR
