BEGIN:VCALENDAR
VERSION:2.0
PRODID:-//Happyride//ICalGenerator//EN
CALSCALE:GREGORIAN
METHOD:PUBLISH
X-WR-TIMEZONE:Europe/Stockholm
X-WR-CALNAME:Vättern Bike Games
X-WR-CALDESC:Ett evenemang från Happyride.se
BEGIN:VEVENT
UID:happyride.se_69e57409cfb700.71383693
SUMMARY:Vättern Bike Games
DTSTART;VALUE=DATE:20171006
DTEND;VALUE=DATE:20171009
DESCRIPTION:Vättern Bike Games blir en kavalkad av tävlingar och uppvisningar i olika cykelgrenar\, för alla olika åldrar från barn till motionär och elit. Bland annat kommer SM i Slopestyle att avgöras\, där cyklisterna tävlar i spektakulära hopp och trick. Det blir också kvällstävling i Cyclocross\, en tuff gren med hög intensitet där deltagarna ska köra en krävande bana med utlagda hinder. På programmet står också trial och en 8-timmars lagtävling (2-4 deltagare/lag) i stafettform för allt från elitlag till företagsgäng. På arenan kommer det finnas ett prova-på-område för barn och ungdomar och på Stora Torget i Motala väntar Oktoberfest samma helg som Vättern Bike Games!\n\nHålltider:\nFredag 6 oktober\, 18.00: Cyclocross (CX)\nLördag 7 oktober\, 9.00: 8-timmars lagtävling (XCO)\nLördag 7 oktober 11.00: Trial\nLördag 7 oktober\, 10.30: Kval\, SM i Slopestyle\nLördag 7 oktober\, 15.00: Final\, SM i Slopestyle\nSöndag 8 oktober: Abloc Gravel Challenge Motala\n\nPublikbiljetter?\nBarn och ungdomar t.o.m 17 år går in gratis\, alla dagar.\n100 SEK/person från 18 år under lördagen. Biljetter köps på plats\, med kort eller Swish. https://happyride.se/kalender/2568/
URL:https://happyride.se/kalender/2568/
END:VEVENT
END:VCALENDAR
