BEGIN:VCALENDAR
VERSION:2.0
PRODID:-//Happyride//ICalGenerator//EN
CALSCALE:GREGORIAN
METHOD:PUBLISH
X-WR-TIMEZONE:Europe/Stockholm
X-WR-CALNAME:BRM 300km Malmö 2 September
X-WR-CALDESC:Ett evenemang från Happyride.se
BEGIN:VEVENT
UID:happyride.se_69e73d4732f240.72343469
SUMMARY:BRM 300km Malmö 2 September
DTSTART:20170902T080000
DTEND:20170903T040000
DESCRIPTION:Säsongens sista 300km brevet från Malmö.\n\nDen kända banan med Konditori Ljungbyhed\, åsbonanza (både Söder- och Hallands-)\, Klippans Centrum samt vacker kvällssol över Öresund sedd från Glumslövs Backar. \n\nAnmälning på hemsida\, senast onsdagen innan. https://happyride.se/kalender/2599/
URL:https://happyride.se/kalender/2599/
END:VEVENT
END:VCALENDAR
