BEGIN:VCALENDAR
VERSION:2.0
PRODID:-//Happyride//ICalGenerator//EN
CALSCALE:GREGORIAN
METHOD:PUBLISH
X-WR-TIMEZONE:Europe/Stockholm
X-WR-CALNAME:Randonnée Uppsala 60 mil
X-WR-CALDESC:Ett evenemang från Happyride.se
BEGIN:VEVENT
UID:happyride.se_69e94b4f2469a1.41041198
SUMMARY:Randonnée Uppsala 60 mil
DTSTART;VALUE=DATE:20170826
DESCRIPTION:600 km Uppsala - Järvsö https://happyride.se/kalender/2600/
URL:https://happyride.se/kalender/2600/
END:VEVENT
END:VCALENDAR
