BEGIN:VCALENDAR
VERSION:2.0
PRODID:-//Happyride//ICalGenerator//EN
CALSCALE:GREGORIAN
METHOD:PUBLISH
X-WR-TIMEZONE:Europe/Stockholm
X-WR-CALNAME:[Happy Easy] Gerrebacka 16:00\, Stella förskola
X-WR-CALDESC:Ett evenemang från Happyride.se
BEGIN:VEVENT
UID:happyride.se_69e9faa3e04632.07069370
SUMMARY:[Happy Easy] Gerrebacka 16:00\, Stella förskola
DTSTART:20170917T160000
DTEND:20170917T180000
DESCRIPTION:Är ni med på en tur?\nSes kl 16:00 vid Stella förskola.\nVi drar runt i skogarna runt i Gerrebacka\, Säve och ev bort mot Skogome.\nCa 2 timmar beroende stigval\, pauser å väder.\n\nVälkomna\n\nEasy = Oberoende av erfarenhet är alla välkomna. Bitvis kan banan vara teknisk men vi väntar på alla.\n\n/Andreas\n0709 17 noll noll 88 https://happyride.se/kalender/2632/
URL:https://happyride.se/kalender/2632/
END:VEVENT
END:VCALENDAR
