BEGIN:VCALENDAR
VERSION:2.0
PRODID:-//Happyride//ICalGenerator//EN
CALSCALE:GREGORIAN
METHOD:PUBLISH
X-WR-TIMEZONE:Europe/Stockholm
X-WR-CALNAME:Hägerstensåsens Dödsrally
X-WR-CALDESC:Ett evenemang från Happyride.se
BEGIN:VEVENT
UID:happyride.se_69ebeebc765132.01929524
SUMMARY:Hägerstensåsens Dödsrally
DTSTART:20180818T120000
DTEND:20180818T140000
DESCRIPTION:Under söndag på vägen hem från mina bibelstudier så mötte jag den välsignade mullvaden. Har var i dåligt skick och mycket oroad över utvecklingen av rallyscenen i fjollträsk. Om det inte skulle bli ändring skulle rally snart vara nykra gubbar som cyklade platt i bibs. Fy fan!\n\nSå den välsignade mullvaden vill i samarbete med Enduro Super-klut bjuda in till Hägerstensåsens Dödsrally. Hägerstensåsens dödsrally är ett premium svartrejs på Hägerstensåsen och går av stapeln lördagen 18de augusti kl 12.\n\nDetta är ett exkusivt event med mobiltidtagning och begränsat antagardeltal. Eftersom rejset är på Hägerstensåsen är sträckorna väldigt korta. De ska du erbjuda en underhållande blandning av sketch och svår rejsing. Då den välsignade mullvaden säger att chicken-lines uppmuntrar svaghelt finns det inga sådana på rejset. Det blir 5 sträckor och reklamfilmen finns i tråden. \n\nVarken mullvaden eller någon annan tar något ansvar för detta eller dig. Eventet är premium och kostar 100 kr. Starkpangare ingår i startavgiften. För alla riktiga freeriders kommer vi hålla en oanmäld (men säkert uppskattad!) apress bike på Restrurang Landet.\n\nKänn peppen! https://happyride.se/kalender/2905/
URL:https://happyride.se/kalender/2905/
END:VEVENT
END:VCALENDAR
