BEGIN:VCALENDAR
VERSION:2.0
PRODID:-//Happyride//ICalGenerator//EN
CALSCALE:GREGORIAN
METHOD:PUBLISH
X-WR-TIMEZONE:Europe/Stockholm
X-WR-CALNAME:Hell-Ass Freakout 2018
X-WR-CALDESC:Ett evenemang från Happyride.se
BEGIN:VEVENT
UID:happyride.se_69ec237db1b3d3.16954986
SUMMARY:Hell-Ass Freakout 2018
DTSTART:20180728T150000
DTEND:20180728T170000
DESCRIPTION:Helt vanlig huck-xc\, med start HBB 15:00 på lördag. Om Stervelo vill närvara så blir det guidning av stravahetsklassiker med track walk och teknikjämförelse. Annars blir det sedvanlig tur. Bärs efteråt! Stor pepp! https://happyride.se/kalender/2935/
URL:https://happyride.se/kalender/2935/
END:VEVENT
END:VCALENDAR
