BEGIN:VCALENDAR
VERSION:2.0
PRODID:-//Happyride//ICalGenerator//EN
CALSCALE:GREGORIAN
METHOD:PUBLISH
X-WR-TIMEZONE:Europe/Stockholm
X-WR-CALNAME:Torpracet
X-WR-CALDESC:Ett evenemang från Happyride.se
BEGIN:VEVENT
UID:happyride.se_69ebcef02bd811.10601622
SUMMARY:Torpracet
DTSTART;VALUE=DATE:20180929
DESCRIPTION:Norra Hallands enda riktiga MTB-lopp. https://happyride.se/kalender/2981/
URL:https://happyride.se/kalender/2981/
END:VEVENT
END:VCALENDAR
