BEGIN:VCALENDAR
VERSION:2.0
PRODID:-//Happyride//ICalGenerator//EN
CALSCALE:GREGORIAN
METHOD:PUBLISH
X-WR-TIMEZONE:Europe/Stockholm
X-WR-CALNAME:Billingeracet
X-WR-CALDESC:Ett evenemang från Happyride.se
BEGIN:VEVENT
UID:happyride.se_69ed2d76cb3802.80945089
SUMMARY:Billingeracet
DTSTART;VALUE=DATE:20190511
DESCRIPTION: https://happyride.se/kalender/3116/
URL:https://happyride.se/kalender/3116/
END:VEVENT
END:VCALENDAR
