BEGIN:VCALENDAR
VERSION:2.0
PRODID:-//Happyride//ICalGenerator//EN
CALSCALE:GREGORIAN
METHOD:PUBLISH
X-WR-TIMEZONE:Europe/Stockholm
X-WR-CALNAME:[SBR 40] Hell-Ass Down-Country
X-WR-CALDESC:Ett evenemang från Happyride.se
BEGIN:VEVENT
UID:happyride.se_69ea9c2cc5e5c0.27816465
SUMMARY:[SBR 40] Hell-Ass Down-Country
DTSTART:20190727T100000
DTEND:20190727T120000
DESCRIPTION:Den välsignade mullvaden vill bjuda in till SBR 40 med det slående namnet Hell-Ass Down-Country. I vanlig god ordning så har mullvaden tänkt att rejset kommer ske på de välkända Nacke-sträckorna. \n\nNytt för i år är att mullvaden vill ha ett mer inkluderande event där alla är välkomna oavsett tidigare erfarenhet och förmåga på cykeln. 2019 blir året då man inte behöver komma hem som en vinnare\, eller i en kista. Vill man rejsa utan visir på hjälmen så är det okej. Vill man ha solglasögon i ett Met Parachute? Inga konstigheter! Hårda skydd utanpå bibsen? Kör\, bara kör! Mullvaden har även skapat haschtaggen #allaskamed för att sprida den varma känslan.\n\nTill det praktiska.\n\nAnmälan i tråden\, anmälan blir först gällande när anmälningsavgiften är pyntad. Anmälan kostar 200 kr (150 kr med eget SBR ID) och inkluderar traditionsenligt starkpangare och kanelbulle. Anmälningsavgiften swishas till 07noll819noll58fem tillsammans med rejsnamn.\nInte så fina priser till pallen\, men även i ett avslappnade event ekar äran in i evigheten.\n\nSamling kl 10.00 mellan Kranglans väg och Östervägen enligt kartan. Träning fram till ca kl 12 då det blir rejsstart. Sträckorna är vid detta laget troligen allmänt kända\, men vi hoppas på att rådjuren trampar upp något nytt. De Nacke-sträckor som mullvaden idag känner till är:\n\nNacke 1\nNacke 1\,5\nNacke 2\nNacke 3\nNacke Pi\nNacke 4\n\nDet är inte nödvändigt\, men en fördel\, att känna till sträckorna innan.\n\nHell-Ass Down-Country är en del”tävling” i CES\, Capital Enduro Series. Fast egentligen är vi bara en tidtagen träning som man säger till SCF. Det finns heller ingen som ansvarar för detta eventet\, din säkerhet eller något annat. Cyklingen utförs på eget ansvar under allemansrätten och mullvaden kommer korsfästa den som slänger skräp i skogen eller gör något dumt.\n\nRoger hjälper oss med tidtagningen\, jag administrerar kattungar och kanelbullar. Du cyklar och har roligt. https://happyride.se/kalender/3243/
URL:https://happyride.se/kalender/3243/
END:VEVENT
END:VCALENDAR
