BEGIN:VCALENDAR
VERSION:2.0
PRODID:-//Happyride//ICalGenerator//EN
CALSCALE:GREGORIAN
METHOD:PUBLISH
X-WR-TIMEZONE:Europe/Stockholm
X-WR-CALNAME:[Tisdagsrajd] - Hell-Ass 30/7
X-WR-CALDESC:Ett evenemang från Happyride.se
BEGIN:VEVENT
UID:happyride.se_69e6394b4b6d08.49345931
SUMMARY:[Tisdagsrajd] - Hell-Ass 30/7
DTSTART:20190730T183000
DTEND:20190730T203000
DESCRIPTION:Inga konstigheter. En samling\, bestående av främst av AM-gubbar med dyra cyklar\, träffas på parkeringsplatsen. Sedan vinglas det runt lite i skogen. Efteråt finns det öl i sjöstaden. https://happyride.se/kalender/3303/
URL:https://happyride.se/kalender/3303/
END:VEVENT
END:VCALENDAR
