BEGIN:VCALENDAR
VERSION:2.0
PRODID:-//Happyride//ICalGenerator//EN
CALSCALE:GREGORIAN
METHOD:PUBLISH
X-WR-TIMEZONE:Europe/Stockholm
X-WR-CALNAME:Mtb Sm 2013
X-WR-CALDESC:Ett evenemang från Happyride.se
BEGIN:VEVENT
UID:happyride.se_69ebf544aec615.71278569
SUMMARY:Mtb Sm 2013
DTSTART;VALUE=DATE:20130720
DTEND;VALUE=DATE:20130724
DESCRIPTION:MTB SM 2013 i Södertälje. SM-tävlingar i XCO\, XCE och Stafett\n\nArrangör: Södertälje CK\n\nPlats: Kusens Backe\, ett skogs/parkområde i centrala Södertälje. TC vid Fågelkärret (se karta)\n\n\nStarttider:\n\nXCO lördag den 20/7\n\n10:00 H Juniorer\, 5 Varv\, 22\,5 km\n\n10:03 D Juniorer\, 4 Varv\, 18 km\n\n12:00 Nybörjare\, 1 Varv\, 700 m\n\n13:00 H Seniorer\, 7 Varv\, 31\,5 km\n\n15:00 D Seniorer\, 6 Varv\, 27\,5 km\n\n17:00 Prisutdelning\n\n\nXCO söndag den 21/7\n\n09:00 F 13-14\, 2 Varv\, 7 km (korta)\n\n09:05 P 10-12\, 2 Varv\, 7 km (korta)\n\n09:10 F 10-12\, 1 Varv\, 3\,5 km (korta)\n\n09:30 P13-14\, 4 Varv\, 14 km (korta)\n\n09:35 F15-16\, 4 Varv\, 14 km (korta)\n\n10:30 P15-16\, 4 Varv\, 18 km (långa)\n\n12:00 Prisutdelning\n	\n12:30 H 50\, 4 Varv\, 18km\n\n12:33 D 30\, 4 Varv\, 18km\n\n12:36 D 40\, 4 Varv\, 18km\n\n14:00 H 30\, 5 Varv\, 22\,5km\n\n15:30 H 40\, 5 Varv\, 22\,5km\n\n17:15 Prisutdelning\n\n\nXCE måndag den 22/7\n\n09:00 Nybörjare\, 1 Varv\n\nCa 09:30 ungdomsklasserkvalificeringen\, 1 Varv\n\n11.00 Ungdomsklasser Elimineringen\, 1 Varv\n\n13.00 prel. Prisutdelning	\n\n13.00 veteran\, junior och senior\, Kvalificeringen\, 1 Varv\n\n16.00 veteran\, junior och senior\, Eliminering\, 1 Varv\n\n18.30 prel. Prisutdelning\n	\n\nXCR/Stafett tisdag den 23/7\n\n10.00 Ungdomsstafetten\, 1 Varv\,  3\,5 km\n\n11.00 Övriga klasser stafett\, 2 Varv\, 7 km\n\n13.00 Prisutdelning https://happyride.se/kalender/336/
URL:https://happyride.se/kalender/336/
END:VEVENT
END:VCALENDAR
