BEGIN:VCALENDAR
VERSION:2.0
PRODID:-//Happyride//ICalGenerator//EN
CALSCALE:GREGORIAN
METHOD:PUBLISH
X-WR-TIMEZONE:Europe/Stockholm
X-WR-CALNAME:Abloc Winter Challenge 2019
X-WR-CALDESC:Ett evenemang från Happyride.se
BEGIN:VEVENT
UID:happyride.se_69ebe554cc88a0.58751367
SUMMARY:Abloc Winter Challenge 2019
DTSTART;VALUE=DATE:20191228
DESCRIPTION:2019 fyller Abloc Winter Challenge fem år\, och det ska firas!\nwww.abloc.se/events/abloc-winter-challenge-2019\n\nDen 28 december cyklar vi vinterns fetaste fikarunda på drygt 30 mil vintriga vägar\, med start och mål i Jönköping. Längs vägen blir det fem kalori- och koffeintäta fikastopp\, och som vanligt gör vi allt vi kan för att serva dig som cyklist på bästa möjliga sätt. Erfarna ledare i varje grupp kan trolla fram energi när det som mest behövs\, och en servicebil åker bakom hela vägen ifall cykeln eller kroppen skulle strula. Däri kan du också lägga en väska med torra kläder att byta till vid stoppen.\n\nAtt det är femårsjubileum kommer att märkas! Det blir helt ny bana\, och kanske blir det tårtbuffé. Kanske kör vi före med en snökanon? Häng med så får du se!\n\nObligatorisk utrustning är dubbdäck\, skärm\, hjälm och kläder efter väder – vilken typ av cykel du kör på väljer du själv. https://happyride.se/kalender/3420/
URL:https://happyride.se/kalender/3420/
END:VEVENT
END:VCALENDAR
