BEGIN:VCALENDAR
VERSION:2.0
PRODID:-//Happyride//ICalGenerator//EN
CALSCALE:GREGORIAN
METHOD:PUBLISH
X-WR-TIMEZONE:Europe/Stockholm
X-WR-CALNAME:Lida 24h 22/8 2020
X-WR-CALDESC:Ett evenemang från Happyride.se
BEGIN:VEVENT
UID:happyride.se_69e8a29b5276b9.58706801
SUMMARY:Lida 24h 22/8 2020
DTSTART:20200822T120000
DTEND:20200823T120000
DESCRIPTION:Lida 24h kommer att gå 22-23 Augusti 2020 vid Lida Friluftsgård.\nI år är det 5-årsjubileum. \n\nCykla så så långt du hinner på 24h.\nCykla minst 1 varv för att vara med i tävlingen.\nSolo eller 3-mannalag. Dam\,Herr och Mix.\n\nFram till 31/12-2019 kan ni använda rabattkod för att få rabatt på startavgiften :NIJS2020 \n\nww.lida24h.se https://happyride.se/kalender/3421/
URL:https://happyride.se/kalender/3421/
END:VEVENT
END:VCALENDAR
