BEGIN:VCALENDAR
VERSION:2.0
PRODID:-//Happyride//ICalGenerator//EN
CALSCALE:GREGORIAN
METHOD:PUBLISH
X-WR-TIMEZONE:Europe/Stockholm
X-WR-CALNAME:SBR#50 Kummelrejset
X-WR-CALDESC:Ett evenemang från Happyride.se
BEGIN:VEVENT
UID:happyride.se_69ed1cbd3351b3.88270338
SUMMARY:SBR#50 Kummelrejset
DTSTART;VALUE=DATE:20201025
DESCRIPTION:Tredje upplagan av SBR Kummelberget kommer att gå av stapeln 25 oktober med start vid fotbollsplanen nedanför Yasuragis parkering\, precis som vanligt. Kummelrejset är generellt inte supertekniskt eller brant utan snarare är sträckorna flowiga och snabba. \n\nSträckor:\nDet kommer att bjudas på 8 olika sträckor mellan 300-600m vardera. Terrängen är lättkörd och flowig med en del inslag av några branter och tekniska partier. Sträckorna kommer att presenteras var för sig närmre rejset.\n\nRejset:\n- Träning under morgonen. Banan är då uppsnitslad och klar.\n- Från 11.30 finns stickor att hämta ut på fotbollsplan (se karta).\n- 12.00 efter en snabb genomgång drar vi igång rejset\n- ca 15.30 prisutdelning. Kommer hållas i närheten av målet av sträcka 7\n\nÖvrigt:\n- Tidtagning sker via Sportident\n- Sträckorna kommer vara bandade SRAM-band. Transporterna med vit/röd randiga band.\n- Rejs sker på egen risk!\n\nTävlingsbanan:\nhttps://maphub.net/jonatanmohlin/RAJS\n\n\nANMÄLAN ÄR STÄNGD!\nAnmälan:\n- Pris för er utan SBR-id 250kr\, med SBR-id 200kr\n- Ni som har ett Sbr-id är garanterade startplats fram tills en vecka före rejset\n- Märk betalningen med ditt happy-nick eller namn\n- Max antal deltagare tillsvidare:45st. Kan öppnas upp för fler beroende på FHMs uppdateringar. \n\nAnmälan sker via länk nedan. När formuläret är ifyllt skriv även i forumtråden att du anmält dig! https://happyride.se/kalender/3443/
URL:https://happyride.se/kalender/3443/
END:VEVENT
END:VCALENDAR
