BEGIN:VCALENDAR
VERSION:2.0
PRODID:-//Happyride//ICalGenerator//EN
CALSCALE:GREGORIAN
METHOD:PUBLISH
X-WR-TIMEZONE:Europe/Stockholm
X-WR-CALNAME:Singlespeed Open Lingman Invitational
X-WR-CALDESC:Ett evenemang från Happyride.se
BEGIN:VEVENT
UID:happyride.se_69e7380d92f5e0.83510625
SUMMARY:Singlespeed Open Lingman Invitational
DTSTART:20200530T120000
DTEND:20200530T140000
DESCRIPTION:Parkering och nummerlappsutdelning sker från 11.00 på Spelbovägen 7 i Järbo.\n11.50 cyklar vi gemensamt upp till startområdet för LeMans start kl 12.00\nKlasser:\nTrue= riktig singlespeed utan växlar och krafs.\nFake: Växlad mtb med spärrade reglage.\nÖvriga får åka runt för skojs skull.\nAlla cyklar på egen risk! \n\nSinglespeed race i utmanande terräng. \nDå det är för få singelspeedrace per år (SSSM på hösten) bjuder bröderna Lingman in till ett race i Järbo och Västerhällan på försommaren för alla singlespeedfans så vi träffas åtminstone en gång till om året. https://happyride.se/kalender/3505/
URL:https://happyride.se/kalender/3505/
END:VEVENT
END:VCALENDAR
