BEGIN:VCALENDAR
VERSION:2.0
PRODID:-//Happyride//ICalGenerator//EN
CALSCALE:GREGORIAN
METHOD:PUBLISH
X-WR-TIMEZONE:Europe/Stockholm
X-WR-CALNAME:SBR#48 - Väsjö Trenduro
X-WR-CALDESC:Ett evenemang från Happyride.se
BEGIN:VEVENT
UID:happyride.se_69ed107ccbc7d3.21577457
SUMMARY:SBR#48 - Väsjö Trenduro
DTSTART;VALUE=DATE:20200912
DESCRIPTION:VÄSJÖ TRENDURO\n12/9 2020\n\nVi återvänder tillbaka till Väsjöbackens Bikepark och vidareutvecklar det smakprov ni fick på SDR#1 med nya fräscha spår.\nOch när det finns lift i backen så varför inte utnyttja den och gynna eldsjälarna bakom.\n\nRACEINFO:\nOBS! Ingen träning fredag 11/9 pga bandning och banfix.\n\nINGEN PUBLIK TILLÅTEN pga 50personers-gränsen från FHM.\nALLT DELTAGANDE SKER PÅ EGEN RISK!!!\n\nTvå startgrupper. \n\nStartgrupp#1 09.00 - 12.30\nStartgrupp#2 13.00 - 16.30\nGrupperna Baseras på tidigare resultat och spikas efter att anmälan stängt. \n\nKlasser: Herr\, Dam och Junior (upp till 16 och kräver målsmans godkännande)\n\n5 SS där varje sträcka skall köra två ggr.\n\nSS1 - Baksidan\nSS2 - Hopplinjen till Röd/vit\nSS3 - Old DH\nSS4 - Berm Berm runt Lifthuset\nSS5 - Hopplinjen till Svart/gul\n\n\nIngen träning på morgonen på rejsdagen utan Bikeparken och liften är öppen kommande helger fram till eventet samt alltid öppen utan lift på vardagarna\, så träning sker på egen hand fram till Rallyt.\nKomplett karta över sträckorna presenteras under v34.\n\nSträckorna är växlande grävda växlande naturliga leder med berms\, hopp\, stenkistor och rollers... och de kräver tungan rätt i mun för att det skall gå snabbt.\nMen kommer ge en skön mix av cykling utan nämnvärt mycket trampande.\nOch vi REKOMENDERAR verkligen att man åker dit och kör spåren innan eventet då det bitvis är långt ifrån enkelt att köra blint.\n\nSe till att gynna eldsjälarna bakom och utnyttja liften nu när den körs ✌️\nParkering finns gratis både vid Edsbergs Sportfält och nere vid botten av backen.\n\nNi följer deras arbete på Instagram:\n\nhttps://instagram.com/vasjobikepark?igshid=1x626w9nfx7da\n\n\nStartavgift: med ID - 300SEK\, Utan ID-350SEK... (100sek går till lifthyra)\n\nANMÄLAN:\n\nhttps://forms.gle/6JjrLCH6ggAx9HCd7 https://happyride.se/kalender/3583/
URL:https://happyride.se/kalender/3583/
END:VEVENT
END:VCALENDAR
