BEGIN:VCALENDAR
VERSION:2.0
PRODID:-//Happyride//ICalGenerator//EN
CALSCALE:GREGORIAN
METHOD:PUBLISH
X-WR-TIMEZONE:Europe/Stockholm
X-WR-CALNAME:Abloc Winter Challenge 2021
X-WR-CALDESC:Ett evenemang från Happyride.se
BEGIN:VEVENT
UID:happyride.se_69ebbbc151e305.04391213
SUMMARY:Abloc Winter Challenge 2021
DTSTART;VALUE=DATE:20210227
DESCRIPTION:NYTT datum denna gång\, 23e Januari. Fritt från mellandagar och julstök. Anmälan är öppen och platserna går åt fort!\nhttp://abloc.se/events/abloc-winter-challenge-2021\n\nDen 23 Januari cyklar vi vinterns fetaste fikarunda på drygt 32 mil vintriga vägar\, med start och mål i Jönköping. Längs vägen blir det fem kalori- och koffeintäta fikastopp\, och som vanligt gör vi allt vi kan för att serva dig som cyklist på bästa möjliga sätt. Erfarna ledare i varje grupp kan trolla fram energi när det som mest behövs\, och en servicebil åker bakom hela vägen ifall cykeln eller kroppen skulle strula. Däri kan du också lägga en väska med torra kläder att byta till vid stoppen.\n\nObligatorisk utrustning är dubbdäck\, skärm\, hjälm och kläder efter väder – vilken typ av cykel du kör på väljer du själv https://happyride.se/kalender/3606/
URL:https://happyride.se/kalender/3606/
END:VEVENT
END:VCALENDAR
