BEGIN:VCALENDAR
VERSION:2.0
PRODID:-//Happyride//ICalGenerator//EN
CALSCALE:GREGORIAN
METHOD:PUBLISH
X-WR-TIMEZONE:Europe/Stockholm
X-WR-CALNAME:Höstgruset
X-WR-CALDESC:Ett evenemang från Happyride.se
BEGIN:VEVENT
UID:happyride.se_69e9de7399c722.05609243
SUMMARY:Höstgruset
DTSTART;VALUE=DATE:20210918
DESCRIPTION:Gravel! \n\nDen nya och snabbt växande formen av cykling. Slipp bilar och asfalt. \nNjut av natur\, grusvägar och vackra vyer. Vi på Team Utan Gränser\, älskar gravel nästan lika mycket som vi älskar att stötta Läkare Utan Gränser. \n\nNu vill vi passa på att låta fler prova på gruscykling eller Gravel som vi kallar det.\n\nPå plats finns också CykelCity\, vår eventsponsor med Cyklar att prova och utrustning att kika på.\n\nÄt en god hamburgare\, ta en  grym cappucino och träffa andra som cyklar gravel\, eller är sugna på testa.\n\nCykling\n\n30 km: Start kl 12:00 (målgång c:a 14 vid 15 km/tim)\n\nEn trevlig och lagom distans som passar alla oavsett cykel. Våra “TUG guider” följer med och visar vägen. Ingen navigation krävs. Ingen depå längs rutten. Barn\, ungdomar\, vuxna\, detta passar alla!\n\n\n80 km: Start kl 11:00 (målgång c:a 15 vid 20 km/tim)\n\nLite mer utmanande. Navigera själv\, depå vid 50 km\n\n\n160 km: Start kl 09:00 (målgång c:a 16 vid 23 km/tim)\n\nEn så kallad ”Gravel Century” – för vältränade. Navigera själv.\nDepå vid 80 km.\n\nI depåerna finns vatten\, energi\, mackor\, bullar och dricka.\nAlla får hamburgare\, dryck\, kaffe och bulle vid mål.\n\nAlla får medalj. https://happyride.se/kalender/3752/
URL:https://happyride.se/kalender/3752/
END:VEVENT
END:VCALENDAR
