BEGIN:VCALENDAR
VERSION:2.0
PRODID:-//Happyride//ICalGenerator//EN
CALSCALE:GREGORIAN
METHOD:PUBLISH
X-WR-TIMEZONE:Europe/Stockholm
X-WR-CALNAME:Sssm 2021
X-WR-CALDESC:Ett evenemang från Happyride.se
BEGIN:VEVENT
UID:happyride.se_69e8c853144d97.48232537
SUMMARY:Sssm 2021
DTSTART;VALUE=DATE:20211002
DESCRIPTION:Då SSSM inte blir av i Värmland i år heller pga anledningar så slänger brorsan och jag upp ett singlespeed mästerskap i all enkelhet. \nNummerlappsutdelning och förvärmning sker på Trivs Pub från kl 18 på fredag https://www.trivs.nu/  och även tvärs över gatan om nått kul händer där... https://musikhuset.nu/\nTävlingsplats är Skidstavallen 4km norr om Gävle centrum bakom golfbanan. \nStart är kl 12.00\nBanan är lätt kuperad men till stora delar tekniskt utmanande\, dock inget ocyklingsbart och 5\,4km lång. Antal varv är upp till var och en men uthållighet kommer att premieras.  (Eventuellt även slöhet)\nDryckesdepå och grill kommer att finnas på plats i anslutning till pumptrack och en enklare teknikbana för den som vill fyllcykla på högre nivå... https://happyride.se/kalender/3758/
URL:https://happyride.se/kalender/3758/
END:VEVENT
END:VCALENDAR
