BEGIN:VCALENDAR
VERSION:2.0
PRODID:-//Happyride//ICalGenerator//EN
CALSCALE:GREGORIAN
METHOD:PUBLISH
X-WR-TIMEZONE:Europe/Stockholm
X-WR-CALNAME:Hansa Bygg Grand Prix MTB Nybro Svartbäcksmåla
X-WR-CALDESC:Ett evenemang från Happyride.se
BEGIN:VEVENT
UID:happyride.se_69ed2ce7336421.78845736
SUMMARY:Hansa Bygg Grand Prix MTB Nybro Svartbäcksmåla
DTSTART:20220515T111600
DTEND:20220515T131600
DESCRIPTION:SEEDANDE FÖR CYKELVASAN! Välkommen till andra upplagan av Hansa Bygg Grand Prix MTB Svartbäcksmåla\, ett varierande lopp i spännande terräng på fina stigar. Typ av lopp: Motionslopp med individuell tidtagning\, EL-MTB är tillåten och tävlar i egen klass. Sträcka: 30 och 60 km Åldergräns: 30 km 8 år (endast i vuxens sällskap). och 60 km 15 år. Nummerlappar hämtas i anslutning till starten fr. kl 08.00 Duschmöjligheter finns Alla fullföljande får medalj\, fika och korv med bröd https://happyride.se/kalender/3887/
URL:https://happyride.se/kalender/3887/
END:VEVENT
END:VCALENDAR
