BEGIN:VCALENDAR
VERSION:2.0
PRODID:-//Happyride//ICalGenerator//EN
CALSCALE:GREGORIAN
METHOD:PUBLISH
X-WR-TIMEZONE:Europe/Stockholm
X-WR-CALNAME:Käringsundsloppet 2022
X-WR-CALDESC:Ett evenemang från Happyride.se
BEGIN:VEVENT
UID:happyride.se_69ed8bf66faa67.18732932
SUMMARY:Käringsundsloppet 2022
DTSTART;VALUE=DATE:20220702
DESCRIPTION:Ett drygt 170 km kombinerat linje- och tempolopp bl.a. i den åländska skärgården med både tävlings- och motionsklass. På söndagen kan du som tidigare välja att motionscykla 110km\, 30km eller 11km\, i år med digital ruttmarkering. \n\nMed koden: BAUHAUS10 får du 10% rabatt på startavgiften\n\nPå söndagen satsar vi främst på att njuta av turen\, av sällskapet samt av trevlig samvaro efter loppet då även i år den omtyckta Cykelträffen ordnas!\n\nMed ett relativt flackt landskap\, korta avstånd\, flest soltimmar i Norden samt ett väl utbyggt vägnät som sträcker sig både över fasta Åland och skärgården är Åland som gjort för cykling. På de drygt 1000km av allmänna vägar som finns på Åland kan man se allt från barnfamiljer på cykelsemester till tävlingscyklister som snabbt vill ta sig till mållinjen.\n\nGör något extra av cykelturen och delta i Käringsundsloppet som är ett motionslopp på vanlig eller elcykel (godkänd på söndag).\nPå söndag finns också fjolårets nyhet\, Motionsklass annan cykel\, kvar. Där är cyklar med tempo- och triathlonstyren samt extrabågar (barens är tillåtna i alla klasser) och/eller heltäckta hjul är tillåtna. Dessa har egen starttid 10min resp. 5 minuter efter övriga klasser!\n\nAlla starter och målgångar\, både lördag och söndag\, sker vid Käringsund Resort & Conference där du även kan boka ditt boende samt ta del i andra happenings som t.ex. en riktig Rockabilly-fest. https://happyride.se/kalender/3926/
URL:https://happyride.se/kalender/3926/
END:VEVENT
END:VCALENDAR
