BEGIN:VCALENDAR
VERSION:2.0
PRODID:-//Happyride//ICalGenerator//EN
CALSCALE:GREGORIAN
METHOD:PUBLISH
X-WR-TIMEZONE:Europe/Stockholm
X-WR-CALNAME:Sssm 2023
X-WR-CALDESC:Ett evenemang från Happyride.se
BEGIN:VEVENT
UID:happyride.se_69ecef68328507.21172495
SUMMARY:Sssm 2023
DTSTART;VALUE=DATE:20230922
DTEND;VALUE=DATE:20230924
DESCRIPTION:SSSM 2023 den 22-23 September i Västerås\nUtan tvekan årets bästa single speed rejs\n\nProgram:\n-Fredag 17:30-19:00: Legendarisk group ride. Upplev Västerås stadsskogar och se Västerås skyline under ledning av två lokala legender. Tomas Savander\, Västerås mest positiva cyklist och @kais01\, happyguru\, allvetare och stigfinnare. Avfärd kl 17:30 från Domkyrkan.\n-Fredag 20:00 afterbike och nummerlappsutdelning på Pitchers.\n-Lördag 12:00 SSSM-final med efterföljande grillning\, start och mål vid Rönnbyvägen.\n-Lördag em/kväll blir en spontanare \n\nExakta platser\, kartor mm finns på följande inlägg: \nhttps://happyride.se/forum/threads/kalender-sssm-2023.3697228/post-4368877\n\nNågra tips på boende är:\n-Rocklunda Stugby (nära)\n-Hem till gården (nära\, mysigt)\n-Steam Hotel (spektakulärt\, en bit bort) \n-Camping finns på södra sidan av stan\n\nAnmälan:\nSkicka ett mail till sssm23vasteras@gmail.com med följande information:\n1) ditt happynick eller artisnamn eller alldeles vanliga namn\n2) om du kommer på groupriden\n3) om du kommer på afterbiken/nummerlappsutdelningen\n4) om du vill ha vegetarisk på grillningen\n\nNär du gjort det får du en bekräftelse med ett telefonnummer dit du swishar anmälningsavgiften\, 150:-\n\nStort tack till ​Lisa Andersson för den fantastiska loggan! ​https://www.facebook.com/lisaandersson1992\n\n\nAnmälda:\n-Perra-G\, aka Per Wetterling\n-Wikstr\n-Paco\n-Eccentric\n-Jojjem\n-Polarbear\n-Onegear\n-Gärdsgårds\n-mikal\n-carl-pedal\n-EST\n-JanneS\n-Bongo_wheels eller LuisDiaz\n-jontahj\n-Joefah\n-42Hz\n-Sir Ed https://happyride.se/kalender/4131/
URL:https://happyride.se/kalender/4131/
END:VEVENT
END:VCALENDAR
