BEGIN:VCALENDAR
VERSION:2.0
PRODID:-//Happyride//ICalGenerator//EN
CALSCALE:GREGORIAN
METHOD:PUBLISH
X-WR-TIMEZONE:Europe/Stockholm
X-WR-CALNAME:Storuman Gravel XL
X-WR-CALDESC:Ett evenemang från Happyride.se
BEGIN:VEVENT
UID:happyride.se_69e99d4b433362.81658974
SUMMARY:Storuman Gravel XL
DTSTART;VALUE=DATE:20240803
DTEND;VALUE=DATE:20240805
DESCRIPTION:Stor­uman Gra­vel XL är ett även­tyrs­lopp på cykel över en 45 mil lång bana genom skog och fjäll i Stor­umans kom­mun\, med eller utan övernatt­ning. Banan går på mesta­dels grus­väg av va­ri­e­ran­de ka­rak­tär (83%)\, med ut­sprid­da korta sam­man­bin­dan­de seg­ment på as­falt (17%).\n\nAlla del­ta­ga­re är själv­för­sör­jan­de och stäl­ler upp en­skilt\, men man kan välja att cykla till­sam­mans i en grupp om man vill. Banan fås på fil och visar re­kom­men­de­rad kor­tas­te väg mel­lan ba­nans kon­troll­punk­ter som måste pas­se­ras i given ord­ning. Halv­vägs genom banan be­fin­ner man sig i Hem­avan och kan över­nat­ta där om man vill köra lop­pet på två dagar (2 x 22 mil). https://happyride.se/kalender/4177/
URL:https://happyride.se/kalender/4177/
END:VEVENT
END:VCALENDAR
