BEGIN:VCALENDAR
VERSION:2.0
PRODID:-//Happyride//ICalGenerator//EN
CALSCALE:GREGORIAN
METHOD:PUBLISH
X-WR-TIMEZONE:Europe/Stockholm
X-WR-CALNAME:Dirty Halland 2024
X-WR-CALDESC:Ett evenemang från Happyride.se
BEGIN:VEVENT
UID:happyride.se_69e6a1ac424048.41723080
SUMMARY:Dirty Halland 2024
DTSTART;VALUE=DATE:20240323
DESCRIPTION:DIRTY HALLAND 23 MARS 2024!\nVi är glada att återigen få bjuda er på ett nytt grusäventyr lördagen 23 mars 2024. Det blir den femte upplagan av Dirty Halland som första gången gick av stapeln 2019 i Halmstad. \nMer info om plats\, rutt\, tema m.m. kommer släppas löpande. \n\nStart och After bike: Åkulla Outdoor Resort\nhttps://maps.app.goo.gl/KFsXhXCyX8x8GoEu5\n\nHåll utkik i våra kanaler på Facebook/Instagram. All nödvändig info/PM kommer finnas på Facebookeventet samt vår webb.\nVi hörs!\n\nhttps://www.facebook.com/events/1566567894083285\n\nhttps://teamcyklamera.se/dirtyhalland/ https://happyride.se/kalender/4186/
URL:https://happyride.se/kalender/4186/
END:VEVENT
END:VCALENDAR
