BEGIN:VCALENDAR
VERSION:2.0
PRODID:-//Happyride//ICalGenerator//EN
CALSCALE:GREGORIAN
METHOD:PUBLISH
X-WR-TIMEZONE:Europe/Stockholm
X-WR-CALNAME:UppsalaLoopen 255
X-WR-CALDESC:Ett evenemang från Happyride.se
BEGIN:VEVENT
UID:happyride.se_69ea55cf9a1b17.75310914
SUMMARY:UppsalaLoopen 255
DTSTART;VALUE=DATE:20240525
DESCRIPTION:Välkomna till fjärde upplagan av Uppsalaloopen 255\n\nVälj 255 eller 110km och upplev de bästa grusvägarna regionen har att erbjuda på detta riktigt långa äventyr på grus.\n\nNytt för 2024 är att vi nu förutom våra guidade grupper erbjuder Sub-grupper där du och dina bästa vapendragare själva kan navigera er runt och välja om ni vill inkludera måltider och energi paket eller om ni bara vill cykla hela varvet och stanna där det passar er.\nGivetvis har ni även här möjlighet att proviantera energi i de 5 depåer som vi har längs sträckningen.\nSUB-grupperna kan vara allt från 2 till 30 personer.\n\nAnmälan öppnar i mellandagarna.\nVI SES PÅ LOOPEN... https://happyride.se/kalender/4189/
URL:https://happyride.se/kalender/4189/
END:VEVENT
END:VCALENDAR
