BEGIN:VCALENDAR
VERSION:2.0
PRODID:-//Happyride//ICalGenerator//EN
CALSCALE:GREGORIAN
METHOD:PUBLISH
X-WR-TIMEZONE:Europe/Stockholm
X-WR-CALNAME:Björnlunken MTB
X-WR-CALDESC:Ett evenemang från Happyride.se
BEGIN:VEVENT
UID:happyride.se_69e67025946929.80959352
SUMMARY:Björnlunken MTB
DTSTART;VALUE=DATE:20240504
DESCRIPTION:Den 4:e Maj 2024 vill vi i Kungsörs SK hälsa er varmt välkomna till Kungsör för den 40:e upplagan av Björnlunken.\n\nVi erbjuder en point-to-point bana i härlig terräng längs den tallbevuxna rullstensåsen söder om Kungsör. Ni kan välja mellan att springa eller cykla\, eller göra en Dagens Dubbel och göra både ock! Vi har även Björnlunken Jr\, en riktig löparfest för alla barn mellan 0-13 år.\n\nDet är banan som är Björnlunkens största tillgång\, den av typen "klassisk terränglöpning"\, härligt fina singeltrack stigar på den tallbeklädda rullstensåsen mellan Alberga och Kungsör. Den kuperade banan (18\,3km lång) bjuder även på lite mer knixiga\, tekniska avsnitt.\n\nVi har samlat all info om banan och anmälan på hemsidan\, där hittar ni höjdprofil\, foton från banan\, bankartor med mera.\n\nVäl mött den 4:e maj! https://happyride.se/kalender/4190/
URL:https://happyride.se/kalender/4190/
END:VEVENT
END:VCALENDAR
