BEGIN:VCALENDAR
VERSION:2.0
PRODID:-//Happyride//ICalGenerator//EN
CALSCALE:GREGORIAN
METHOD:PUBLISH
X-WR-TIMEZONE:Europe/Stockholm
X-WR-CALNAME:Happy Easy MTB GBG
X-WR-CALDESC:Ett evenemang från Happyride.se
BEGIN:VEVENT
UID:happyride.se_69e8f1ab38bb98.07397105
SUMMARY:Happy Easy MTB GBG
DTSTART;VALUE=DATE:20240516
DESCRIPTION:En lite lättare rajd(kondition) med fler pauser.\n\nMöts upp vid kallebäcks parkering\, se pin.\n\nUte i 2-2\,5h. Skriv om du kommer\, kör inte annars. https://happyride.se/kalender/4301/
URL:https://happyride.se/kalender/4301/
END:VEVENT
END:VCALENDAR
