BEGIN:VCALENDAR
VERSION:2.0
PRODID:-//Happyride//ICalGenerator//EN
CALSCALE:GREGORIAN
METHOD:PUBLISH
X-WR-TIMEZONE:Europe/Stockholm
X-WR-CALNAME:Stigcykling I Jädraås
X-WR-CALDESC:Ett evenemang från Happyride.se
BEGIN:VEVENT
UID:happyride.se_69e9725e7224e3.23763558
SUMMARY:Stigcykling I Jädraås
DTSTART:20240601T121500
DTEND:20240601T141500
DESCRIPTION:Nu kör vi stigcykling igen i Jädraås med omnejd. Samling på parkeringen före Jädraås Herrgård. \nAfterbike på Kjellas såklart. \n1/6 Valkis/Rontis Obs start kl 12.00!! \n29/6 Mårtensklack kl 10.00\n20/7 Naturstigen Ivantjärn kl 10.00\n24/8 Häståsen/Olars/Rönnåsen kl 10.00\nVäl mött Henrik och Emelie\nLingman Ute&Cyklar https://happyride.se/kalender/4304/
URL:https://happyride.se/kalender/4304/
END:VEVENT
END:VCALENDAR
