BEGIN:VCALENDAR
VERSION:2.0
PRODID:-//Happyride//ICalGenerator//EN
CALSCALE:GREGORIAN
METHOD:PUBLISH
X-WR-TIMEZONE:Europe/Stockholm
X-WR-CALNAME:Gotland360
X-WR-CALDESC:Ett evenemang från Happyride.se
BEGIN:VEVENT
UID:happyride.se_69ed1cb39f5442.62608855
SUMMARY:Gotland360
DTSTART:20250913T080000
DTEND:20250914T080000
DESCRIPTION:Upplev det bästa av Gotland under två dagar på vår längsta sträcka\, från vackra Ekstakusten och Hoburgen i söder till norra Gotlands slingrande småvägar. https://happyride.se/kalender/4380/
URL:https://happyride.se/kalender/4380/
END:VEVENT
END:VCALENDAR
