BEGIN:VCALENDAR
VERSION:2.0
PRODID:-//Happyride//ICalGenerator//EN
CALSCALE:GREGORIAN
METHOD:PUBLISH
X-WR-TIMEZONE:Europe/Stockholm
X-WR-CALNAME:BRM 200 Västerås - Götlunda vinterrunda
X-WR-CALDESC:Ett evenemang från Happyride.se
BEGIN:VEVENT
UID:happyride.se_69e7cb7ac6a664.66605098
SUMMARY:BRM 200 Västerås - Götlunda vinterrunda
DTSTART:20250208T080000
DTEND:20250208T100000
DESCRIPTION:Vinterrunda med blandat underlag. Åtminstone 40 km grus.\nVid barmark erbjuds en asfaltsrunda\, se länk för mer info. https://happyride.se/kalender/4386/
URL:https://happyride.se/kalender/4386/
END:VEVENT
END:VCALENDAR
