BEGIN:VCALENDAR
VERSION:2.0
PRODID:-//Happyride//ICalGenerator//EN
CALSCALE:GREGORIAN
METHOD:PUBLISH
X-WR-TIMEZONE:Europe/Stockholm
X-WR-CALNAME:Vårblotet
X-WR-CALDESC:Ett evenemang från Happyride.se
BEGIN:VEVENT
UID:happyride.se_69eba49452eb47.72156824
SUMMARY:Vårblotet
DTSTART;VALUE=DATE:20250518
DESCRIPTION:Vårblotet är tillbaka även 2025- Söndag 18 maj\nNu är vi igång igen! Bålsta Cykelklubb arrangerar sitt 15:e Vårblot!\n \nVälkommen!\nVälkommen till Vårblotet – en av Stockholms och Upplands skönaste landsvägslopp på cykel där färden går genom gamla vikingabygder\, utmed vajande fält och längs Mälarens vatten. Vårblotet är\, enligt Wikipedia och gammal tradition ”en bekräftelse av de livgivande krafterna\, att hälsa sommaren välkommen\, önska god växtkraft och utrymme åt allt uppväxande” vilket väl känns som en bra start på årets cykelsäsong!\n\nGemensam start avgår från parkeringen utanför Futurumskolan i Bålsta\, där långa och korta banans deltagare startar i egna start- och fartgrupper med början 9.00 söndagen den 18 Maj 2025. Nummerlappsutdelning påbörjas 08.00. Efteranmälan på plats (långa  700 kr\, korta banan 600kr).\n\nDet finns två depåer för deltagarna. I depån erbjuds saft\, vatten\, bananer och möjlighet till enklare cykelreparationer. Väl kommen i mål så bjuds alla deltagare på kaffe/te/saft\, varm korv med bröd\, bullar och bananer.\n\nVårblotet arrangeras i år för 15:e gången av Bålsta Cykelklubb\, och vi är mycket stolta över att åter kunna bjuda in Sveriges cykelentusiaster till en härlig åktur!\n\nDu kan i år också visa upp ditt kraftprov i direktsändning genom att ladda hem appen ”RaceONE” från Appstore eller Google Play\, registrera dig och sedan söka fram Vårblotet!\n\nAnmäler dig gör du direkt här på siten med knappen nedan!\n\nStarttider\nLånga banan 120km: 09.00\nKorta banan 48km: 09:30 https://happyride.se/kalender/4401/
URL:https://happyride.se/kalender/4401/
END:VEVENT
END:VCALENDAR
