BEGIN:VCALENDAR
VERSION:2.0
PRODID:-//Happyride//ICalGenerator//EN
CALSCALE:GREGORIAN
METHOD:PUBLISH
X-WR-TIMEZONE:Europe/Stockholm
X-WR-CALNAME:Keps cup Bruket
X-WR-CALDESC:Ett evenemang från Happyride.se
BEGIN:VEVENT
UID:happyride.se_69eba50018d2c2.99192282
SUMMARY:Keps cup Bruket
DTSTART:20250330T101200
DTEND:20250330T121200
DESCRIPTION:Andra deltävlingen i Keps Cup för i år https://happyride.se/kalender/4446/
URL:https://happyride.se/kalender/4446/
END:VEVENT
END:VCALENDAR
