BEGIN:VCALENDAR
VERSION:2.0
PRODID:-//Happyride//ICalGenerator//EN
CALSCALE:GREGORIAN
METHOD:PUBLISH
X-WR-TIMEZONE:Europe/Stockholm
X-WR-CALNAME:Onsdagsrajd i Delsjön
X-WR-CALDESC:Ett evenemang från Happyride.se
BEGIN:VEVENT
UID:happyride.se_69eb2fc633ed61.91666308
SUMMARY:Onsdagsrajd i Delsjön
DTSTART:20250820T180000
DTEND:20250820T200000
DESCRIPTION:Vi samlas på Cykelfiket på Sofiagatan 4. Cykling 2 timmar i Delsjön och avslut vid Härlanda tjärn. Sen After Bike med bastu och ett dopp i tjärnet för alla som vill. Bastun är bokad till kl 21:30. https://happyride.se/kalender/4504/
URL:https://happyride.se/kalender/4504/
END:VEVENT
END:VCALENDAR
