BEGIN:VCALENDAR
VERSION:2.0
PRODID:-//Happyride//ICalGenerator//EN
CALSCALE:GREGORIAN
METHOD:PUBLISH
X-WR-TIMEZONE:Europe/Stockholm
X-WR-CALNAME:Måndagsrajd Delsjön
X-WR-CALDESC:Ett evenemang från Happyride.se
BEGIN:VEVENT
UID:happyride.se_69e8213d75a9a1.58142831
SUMMARY:Måndagsrajd Delsjön
DTSTART:20250818T180000
DTEND:20250818T200000
DESCRIPTION:Sedvanlig måndagsrajd i Delsjön. \nRunt 2.5 timme \nAlla är välkomna https://happyride.se/kalender/4508/
URL:https://happyride.se/kalender/4508/
END:VEVENT
END:VCALENDAR
