BEGIN:VCALENDAR
VERSION:2.0
PRODID:-//Happyride//ICalGenerator//EN
CALSCALE:GREGORIAN
METHOD:PUBLISH
X-WR-TIMEZONE:Europe/Stockholm
X-WR-CALNAME:NICK-spåret 20 år!
X-WR-CALDESC:Ett evenemang från Happyride.se
BEGIN:VEVENT
UID:happyride.se_69e8db879d8929.33360458
SUMMARY:NICK-spåret 20 år!
DTSTART:20250920T104000
DTEND:20250920T124000
DESCRIPTION:På lördag firar NICK-spåret i Ursvik 20 år! \n\nHäng med och fyll skogen med MTB-cyklister! Vi håller ett tempo så alla hänger med. Spåret är bitvis tekniskt men de flesta knixar har en B-linje och om inte annat får man gå en bit. Samling vid Ursvik IP 10:40 och vi rullar 11:00. Vi cyklar ca två timmar och du behöver en fungerande MTB\, hjälm och handskar samt vatten.\n\nHistorien om NICK-spåret hittar du på https://trailflow.se/nick-sparet/ https://happyride.se/kalender/4538/
URL:https://happyride.se/kalender/4538/
END:VEVENT
END:VCALENDAR
