BEGIN:VCALENDAR
VERSION:2.0
PRODID:-//Happyride//ICalGenerator//EN
CALSCALE:GREGORIAN
METHOD:PUBLISH
X-WR-TIMEZONE:Europe/Stockholm
X-WR-CALNAME:Onsdagsrajd delsjön
X-WR-CALDESC:Ett evenemang från Happyride.se
BEGIN:VEVENT
UID:happyride.se_69eba4f9388aa6.51714852
SUMMARY:Onsdagsrajd delsjön
DTSTART:20250924T180000
DTEND:20250924T200000
DESCRIPTION:Vi kör en runda i Delsjön som vanligt. Startar vid cykelfiket.\nrunt 2-2.5 timmas tur\nAlla är välkomna att hänga på https://happyride.se/kalender/4540/
URL:https://happyride.se/kalender/4540/
END:VEVENT
END:VCALENDAR
