BEGIN:VCALENDAR
VERSION:2.0
PRODID:-//Happyride//ICalGenerator//EN
CALSCALE:GREGORIAN
METHOD:PUBLISH
X-WR-TIMEZONE:Europe/Stockholm
X-WR-CALNAME:Måndagsrajd Delsjön
X-WR-CALDESC:Ett evenemang från Happyride.se
BEGIN:VEVENT
UID:happyride.se_69e96e4fb0e756.48238937
SUMMARY:Måndagsrajd Delsjön
DTSTART:20251013T180000
DTEND:20251013T200000
DESCRIPTION:Sedvanlig måndagsrajd i Delsjön. \nRunt 2.5 timma\nAlla är välkomna https://happyride.se/kalender/4547/
URL:https://happyride.se/kalender/4547/
END:VEVENT
END:VCALENDAR
