BEGIN:VCALENDAR
VERSION:2.0
PRODID:-//Happyride//ICalGenerator//EN
CALSCALE:GREGORIAN
METHOD:PUBLISH
X-WR-TIMEZONE:Europe/Stockholm
X-WR-CALNAME:Måndagsrajd Delsjön
X-WR-CALDESC:Ett evenemang från Happyride.se
BEGIN:VEVENT
UID:happyride.se_69e96e0fd4c331.15639595
SUMMARY:Måndagsrajd Delsjön
DTSTART:20251020T180000
DTEND:20251020T200000
DESCRIPTION:Sedvanlig måndagsrajd i Delsjön. \nImorgon kommer regnet så finns inga bortförklaringar idag \nRunt 2.5 timma\nAlla är välkomna https://happyride.se/kalender/4549/
URL:https://happyride.se/kalender/4549/
END:VEVENT
END:VCALENDAR
