BEGIN:VCALENDAR
VERSION:2.0
PRODID:-//Happyride//ICalGenerator//EN
CALSCALE:GREGORIAN
METHOD:PUBLISH
X-WR-TIMEZONE:Europe/Stockholm
X-WR-CALNAME:Måndagsrajd Delsjön
X-WR-CALDESC:Ett evenemang från Happyride.se
BEGIN:VEVENT
UID:happyride.se_69e96e0fefa169.00640161
SUMMARY:Måndagsrajd Delsjön
DTSTART:20251027T180000
DTEND:20251027T200000
DESCRIPTION:måndagsrajd i Delsjön. \nRunt 2.5 timma\nAlla är välkomna https://happyride.se/kalender/4550/
URL:https://happyride.se/kalender/4550/
END:VEVENT
END:VCALENDAR
