BEGIN:VCALENDAR
VERSION:2.0
PRODID:-//Happyride//ICalGenerator//EN
CALSCALE:GREGORIAN
METHOD:PUBLISH
X-WR-TIMEZONE:Europe/Stockholm
X-WR-CALNAME:Måndagsrajd Delsjön
X-WR-CALDESC:Ett evenemang från Happyride.se
BEGIN:VEVENT
UID:happyride.se_69eb3fb16bef12.29466897
SUMMARY:Måndagsrajd Delsjön
DTSTART:20251103T180000
DTEND:20251103T200000
DESCRIPTION:måndagsrajd i Delsjön. \nRegnet kommer nog perfekt så vi får använda våra regnkläder \nRunt 2.5 timma\nAlla är välkomna https://happyride.se/kalender/4551/
URL:https://happyride.se/kalender/4551/
END:VEVENT
END:VCALENDAR
