BEGIN:VCALENDAR
VERSION:2.0
PRODID:-//Happyride//ICalGenerator//EN
CALSCALE:GREGORIAN
METHOD:PUBLISH
X-WR-TIMEZONE:Europe/Stockholm
X-WR-CALNAME:Måndagsrajd Delsjön
X-WR-CALDESC:Ett evenemang från Happyride.se
BEGIN:VEVENT
UID:happyride.se_69ea0b7841ddc4.67630972
SUMMARY:Måndagsrajd Delsjön
DTSTART:20251110T180000
DTEND:20251110T200000
DESCRIPTION:måndagsrajd i Delsjön. \nRekommenderar att ha på mudguard ?\nRunt 2.5 timmas tur\nAlla är välkomna https://happyride.se/kalender/4553/
URL:https://happyride.se/kalender/4553/
END:VEVENT
END:VCALENDAR
